BEGIN:VCALENDAR
VERSION:2.0
PRODID:-//ChamberMaster//Event Calendar 2.0//EN
METHOD:PUBLISH
X-PUBLISHED-TTL:P3D
REFRESH-INTERVAL:P3D
CALSCALE:GREGORIAN
BEGIN:VEVENT
DTSTART:20161027T200000Z
DTEND:20161027T230000Z
X-MICROSOFT-CDO-ALLDAYEVENT:FALSE
SUMMARY:Charleston Harbor Cruise
DESCRIPTION:The Low Country Chapter of the CRMCA is excited to bring back the Charleston Harbor Cruise!  Back by popular demand you won't want to miss this evening aboard the Osprey - enjoy being on the water with frogmore stew\, refreshments and a great chance to socialize with fellow members.
X-ALT-DESC;FMTTYPE=text/html:The Low Country Chapter of the&nbsp\;CRMCA&nbsp\;is excited to bring back the Charleston Harbor Cruise! &nbsp\;Back by popular demand you won&#39\;t want to miss this evening aboard the Osprey - enjoy being on the water with frogmore stew\, refreshments and a great chance to socialize with fellow members.
LOCATION:Isle of Palms Marina 50 41st Avenue Isle of Palms\, SC
UID:e.9366.6
SEQUENCE:3
DTSTAMP:20260421T093858Z
URL:https://business.crmca.com/events/details/charleston-harbor-cruise-09-22-2016-6
END:VEVENT

END:VCALENDAR
