BEGIN:VCALENDAR
VERSION:2.0
PRODID:-//ChamberMaster//Event Calendar 2.0//EN
METHOD:PUBLISH
X-PUBLISHED-TTL:P3D
REFRESH-INTERVAL:P3D
CALSCALE:GREGORIAN
BEGIN:VEVENT
DTSTART:20170329T213000Z
DTEND:20170330T160000Z
X-MICROSOFT-CDO-ALLDAYEVENT:FALSE
SUMMARY:CRMCA NC Concrete Day - 2017
DESCRIPTION:This year's NC Concrete Day will be held March 29-30 in Raleigh\, NC. Join us as we meet with legislators to discuss the issues affecting our industry.  During the event we will provide CRMCA members with key talking points on our industry so that members from all areas will be prepared to talk with their local elected officials about our NC issues.\n\n\n\nConcrete Day is most successful when our members participate and can relate real life stories and experiences to industry issues.  We need your support and participation in this year's event.\n\n\n\nHotel Deadline is Feb. 20\, 2017 - don't delay in reserving your room!
X-ALT-DESC;FMTTYPE=text/html:This year&#39\;s NC Concrete Day will be held March 29-30 in Raleigh\, NC. Join us as we meet with legislators to discuss the issues affecting our industry. &nbsp\;During the event we will provide CRMCA members with key talking points on our industry so that members from all areas will be prepared to talk with their local elected officials about our NC issues.<br />\n<br />\nConcrete Day is most successful when our members participate and can relate real life stories and experiences to industry issues. &nbsp\;We need your support and participation in this year&#39\;s event.<br />\n<br />\n<strong>Hotel Deadline is Feb. 20\, 2017 - don&#39\;t delay in reserving your room!</strong>
LOCATION:Sheraton Raleigh Hotel 421 South Salisbury Street Raleigh\, NC 27601 Click Here to Reserve Room Online or call 1-800-325-3535 Deadline for group rate is Feb. 20\, 2017
UID:e.9366.76
SEQUENCE:3
DTSTAMP:20260421T002110Z
URL:https://business.crmca.com/events/details/crmca-nc-concrete-day-2017-76
END:VEVENT

END:VCALENDAR
