BEGIN:VCALENDAR
VERSION:2.0
PRODID:-//ChamberMaster//Event Calendar 2.0//EN
METHOD:PUBLISH
X-PUBLISHED-TTL:P3D
REFRESH-INTERVAL:P3D
CALSCALE:GREGORIAN
BEGIN:VEVENT
DTSTART:20160930T163000Z
DTEND:20160930T170000Z
X-MICROSOFT-CDO-ALLDAYEVENT:FALSE
SUMMARY:CRMCA NC PAC Shotgun Raffle
DESCRIPTION:The CRMCA NC PAC is excited to host a raffle during the month of September for a Berretta A300 Outlander Realtree MAX-5 Semi-Auto Shotgun.  Tickets are $50 each and can be purchased online.  The winning ticket will be drawn at the CRMCA Sporting Clay Tournament held on Sept. 30th at the Fork Farm & Stables.  Don't worry - you don't have to be present to win!  Tickets must be purchased with personal funds because your contribution will go directly to the CRMCA NC PAC.  \n\n\n\nWith election season fast approaching we need your support of the CRMCA NC PAC more than ever!  We are working to actively support candidates who understand our industry and business interests and we need your contributions to make it happen.  The CRMCA NC Legislative Committee thanks you in advance for your support of the NC PAC.  Good Luck!\n\nBy the way\, not in to a shotgun...buy a ticket and get an $800 gift card instead!\n\n\n\nClick Here to Buy Tickets Today!
X-ALT-DESC;FMTTYPE=text/html:<p style="color: rgb(34\, 34\, 34)\; font-family: Arial\, Verdana\, sans-serif\; font-size: 12px\; line-height: normal\;">The&nbsp\;CRMCA&nbsp\;NC PAC is excited to host a raffle during the month of September for a&nbsp\;<a href="http://www.beretta.com/en-us/a300-outlander/"><span style="color:#000080\;"><strong>Berretta&nbsp\;A300&nbsp\;Outlander&nbsp\;Realtree&nbsp\;MAX-5 Semi-Auto Shotgun</strong></span></a>. &nbsp\;Tickets are $50 each and can be purchased online. &nbsp\;The winning ticket will be drawn at the&nbsp\;CRMCA&nbsp\;Sporting Clay Tournament held on Sept.&nbsp\;30th&nbsp\;at the Fork Farm &amp\; Stables. &nbsp\;Don&#39\;t worry - you don&#39\;t have to be present to win! &nbsp\;Tickets must be purchased with personal funds because your contribution will go directly to the&nbsp\;CRMCA&nbsp\;NC PAC. &nbsp\;<br />\n<br />\nWith election season fast approaching we need your support of the&nbsp\;CRMCA&nbsp\;NC PAC more than ever! &nbsp\;We are working to actively support candidates who understand our industry and business interests and we need your contributions to make it happen. &nbsp\;The&nbsp\;CRMCA&nbsp\;NC Legislative Committee thanks you in advance for your support of the NC PAC. &nbsp\;Good Luck!</p>\n\n<p style="margin: 0px 0px 20px\; color: rgb(70\, 70\, 70)\; font-family: arial\, sans-serif\; font-size: 16px\; line-height: 26px\;"><em style="color: rgb(34\, 34\, 34)\; font-family: Arial\, Verdana\, sans-serif\; font-size: 12px\; line-height: normal\;">By the way\, not in to a shotgun...buy a ticket and get an $800 gift card instead!</em><br style="color: rgb(34\, 34\, 34)\; font-family: Arial\, Verdana\, sans-serif\; font-size: 12px\; line-height: normal\;" />\n<br />\n<a href="https://www.eservicepayments.com/cgi-bin/Vanco_ver3.vps?appver3=Fi1giPL8kwX_Oe1AO50jRkxwOHhdrB2fRw5A6G3kg0bHO3iVYxvvxhHjRfLOeq662EvVVAEjqawDomKT1pbouQksaMbnHRQrkPYP3S3HYe4=" style="font-family: Arial\, Verdana\, sans-serif\; font-size: 12px\; line-height: normal\;"><span style="color: rgb(255\, 0\, 0)\;"><span style="font-size: 20px\;"><strong>Click Here to Buy Tickets Today!</strong></span></span></a></p>\n
LOCATION:
UID:e.9366.29
SEQUENCE:3
DTSTAMP:20260421T094240Z
URL:https://business.crmca.com/events/details/crmca-nc-pac-shotgun-raffle-29
END:VEVENT

END:VCALENDAR
