BEGIN:VCALENDAR
VERSION:2.0
PRODID:-//ChamberMaster//Event Calendar 2.0//EN
METHOD:PUBLISH
X-PUBLISHED-TTL:P3D
REFRESH-INTERVAL:P3D
CALSCALE:GREGORIAN
BEGIN:VEVENT
DTSTART:20170119T153000Z
DTEND:20170119T164500Z
X-MICROSOFT-CDO-ALLDAYEVENT:FALSE
SUMMARY:Environmental Committee Meeting
DESCRIPTION:Join us for our Environmental Committee Meeting - January 19th from 10:30-11:45am at the CRMCA Offices.  Our meeting will be followed by an education session on EPCRA Tier II / Community Right to Know Reporting.  All committee members are encouraged to stay and participate.
X-ALT-DESC;FMTTYPE=text/html:Join us for our Environmental Committee Meeting - January 19th from 10:30-11:45am at the CRMCA Offices. &nbsp\;Our meeting will be followed by an education session on EPCRA Tier II / Community Right to Know Reporting. &nbsp\;All committee members are encouraged to stay and participate.
LOCATION:
UID:e.9366.69
SEQUENCE:3
DTSTAMP:20260421T021749Z
URL:https://business.crmca.com/events/details/environmental-committee-meeting-69
END:VEVENT

END:VCALENDAR
