BEGIN:VCALENDAR
VERSION:2.0
PRODID:-//ChamberMaster//Event Calendar 2.0//EN
METHOD:PUBLISH
X-PUBLISHED-TTL:P3D
REFRESH-INTERVAL:P3D
CALSCALE:GREGORIAN
BEGIN:VEVENT
DTSTART:20170725T171500Z
DTEND:20170725T184500Z
X-MICROSOFT-CDO-ALLDAYEVENT:FALSE
SUMMARY:Environmental Committee Meeting - July 25\, 2017
DESCRIPTION:Environmental Committee Meeting
X-ALT-DESC;FMTTYPE=text/html:Environmental Committee Meeting
LOCATION:CRMCA Office 1805 J.N. Pease Place Charlotte\, NC 28262
UID:e.9366.86
SEQUENCE:3
DTSTAMP:20260420T174449Z
URL:https://business.crmca.com/events/details/environmental-committee-meeting-july-25-2017-86
END:VEVENT

END:VCALENDAR
