BEGIN:VCALENDAR
VERSION:2.0
PRODID:-//ChamberMaster//Event Calendar 2.0//EN
METHOD:PUBLISH
X-PUBLISHED-TTL:P3D
REFRESH-INTERVAL:P3D
CALSCALE:GREGORIAN
BEGIN:VEVENT
DTSTART:20160803T120000Z
DTEND:20160803T133000Z
X-MICROSOFT-CDO-ALLDAYEVENT:FALSE
SUMMARY:Grand Strand Chapter CEC
DESCRIPTION:Join us for lunch\, networking and a brief program\, Economic Update of the Myrtle Beach Region presented by Dick Morrow\, BASF.
X-ALT-DESC;FMTTYPE=text/html:Join us for lunch\, networking and a brief program\, Economic Update of the Myrtle Beach Region presented by Dick Morrow\, BASF.
LOCATION:Dead Dog Cafe Murrells Inlet\, SC
UID:e.9366.9
SEQUENCE:3
DTSTAMP:20260421T111052Z
URL:https://business.crmca.com/events/details/grand-strand-chapter-cec-08-03-2016-9
END:VEVENT

END:VCALENDAR
