BEGIN:VCALENDAR
VERSION:2.0
PRODID:-//ChamberMaster//Event Calendar 2.0//EN
METHOD:PUBLISH
X-PUBLISHED-TTL:P3D
REFRESH-INTERVAL:P3D
CALSCALE:GREGORIAN
BEGIN:VEVENT
DTSTART:20161020T210000Z
DTEND:20161021T000000Z
X-MICROSOFT-CDO-ALLDAYEVENT:FALSE
SUMMARY:Grand Strand Oyster Roast
DESCRIPTION:The Grand Strand Chapter of the CRMCA is taking a break from their traditional business meeting format and hosting this Social Event. Join us for an Oyster Roast\, refreshments and a good time. The $30 includes all you can eat oysters as well as other food offerings. Beverages are available but not included in the $30.
X-ALT-DESC;FMTTYPE=text/html:The Grand Strand Chapter of the CRMCA is taking a break from their traditional business meeting format and hosting this Social Event. Join us for an Oyster Roast\, refreshments and a good time. The $30 includes all you can eat oysters as well as other food offerings. Beverages are available but not included in the $30.
LOCATION:The Wicked Tuna 4123 U.S. 17 Business Murrells Inlet\, SC
UID:e.9366.18
SEQUENCE:3
DTSTAMP:20260421T075022Z
URL:https://business.crmca.com/events/details/grand-strand-oyster-roast-10-20-2016-18
END:VEVENT

END:VCALENDAR
