BEGIN:VCALENDAR
VERSION:2.0
PRODID:-//ChamberMaster//Event Calendar 2.0//EN
METHOD:PUBLISH
X-PUBLISHED-TTL:P3D
REFRESH-INTERVAL:P3D
CALSCALE:GREGORIAN
BEGIN:VEVENT
DTSTART:20170808T153000Z
DTEND:20170808T170000Z
X-MICROSOFT-CDO-ALLDAYEVENT:FALSE
SUMMARY:Low Country Chapter CEC - August 2017
DESCRIPTION:Join us for lunch\, networking and a brief program on "Buying the Right Mix and Understanding What You Buy."  Hear from CRMCA Member Bryan Smith who is an ACI Certified Concrete Finisher Instructor - he'll share insight on what he sees daily in the field and ways to improve processes to help your contractors.
X-ALT-DESC;FMTTYPE=text/html:Join us for lunch\, networking and a brief program on &quot\;Buying the Right Mix and Understanding What You Buy.&quot\; &nbsp\;Hear from CRMCA Member Bryan Smith who is an ACI Certified Concrete Finisher Instructor - he&#39\;ll share insight on what he sees daily in the field and ways to improve processes to help your contractors.&nbsp\;&nbsp\;
LOCATION:Oscar's 207 W. 5th N. Street Summerville\, SC
UID:e.9366.59
SEQUENCE:3
DTSTAMP:20260420T140545Z
URL:https://business.crmca.com/events/details/low-country-chapter-cec-august-2017-59
END:VEVENT

END:VCALENDAR
