BEGIN:VCALENDAR
VERSION:2.0
PRODID:-//ChamberMaster//Event Calendar 2.0//EN
METHOD:PUBLISH
X-PUBLISHED-TTL:P3D
REFRESH-INTERVAL:P3D
CALSCALE:GREGORIAN
BEGIN:VEVENT
DTSTART:20170223T163000Z
DTEND:20170223T180000Z
X-MICROSOFT-CDO-ALLDAYEVENT:FALSE
SUMMARY:Metrolina Chapter CEC - February 2017
DESCRIPTION:Join us for lunch\, networking and a brief program.\n\n\n\nRSVP Required
X-ALT-DESC;FMTTYPE=text/html:Join us for lunch\, networking and a brief program.<br />\n<br />\n<strong>RSVP Required</strong><br />\n&nbsp\;
LOCATION:CRMCA Office 1805 J.N. Pease Place Charlotte\, NC
UID:e.9366.46
SEQUENCE:3
DTSTAMP:20260421T002604Z
URL:https://business.crmca.com/events/details/metrolina-chapter-cec-february-2017-46
END:VEVENT

END:VCALENDAR
