BEGIN:VCALENDAR
VERSION:2.0
PRODID:-//ChamberMaster//Event Calendar 2.0//EN
METHOD:PUBLISH
X-PUBLISHED-TTL:P3D
REFRESH-INTERVAL:P3D
CALSCALE:GREGORIAN
BEGIN:VEVENT
DTSTART:20170518T153000Z
DTEND:20170518T170000Z
X-MICROSOFT-CDO-ALLDAYEVENT:FALSE
SUMMARY:Metrolina Chapter CEC - May 18\, 2017
DESCRIPTION:Join us for lunch\, networking and a brief program on Build with Strength and the Concrete Design Center as well as a presentation on ICF's in today's market. \n\n\n\nAs a reminder boxed lunches are $12.50 each - please RSVP to sign up and pay for your lunch or select no lunch - attend only.  \n\n\n\nMetrolina CEC Agenda
X-ALT-DESC;FMTTYPE=text/html:<span style="font-size: 12px\; color: rgb(32\, 32\, 32)\; font-family: tahoma\;">Join us for lunch\, networking and a brief program on&nbsp\;</span><span style="font-size: 12px\; color: rgb(32\, 32\, 32)\; font-family: tahoma\;">Build with Strength and the&nbsp\;</span><span style="font-size: 12px\; color: rgb(32\, 32\, 32)\; font-family: tahoma\;">Concrete Design Center as well as a presentation on&nbsp\;ICF&#39\;s&nbsp\;in today&#39\;s market.&nbsp\;<br />\n<br />\nAs a reminder boxed lunches are $12.50 each - please RSVP to sign up and pay for your lunch or select no lunch - attend only. &nbsp\;<br />\n<br />\n<a href="https://chambermaster.blob.core.windows.net/userfiles/UserFiles/chambers/9366/File/CEC/CRMCACECMeetingAgendaMetrolina.pdf">Metrolina CEC Agenda</a> </span>
LOCATION:CRMCA Office 1805 J.N. Pease Place Charlotte\, NC
UID:e.9366.57
SEQUENCE:3
DTSTAMP:20260420T213738Z
URL:https://business.crmca.com/events/details/metrolina-chapter-cec-may-18-2017-57
END:VEVENT

END:VCALENDAR
