BEGIN:VCALENDAR
VERSION:2.0
PRODID:-//ChamberMaster//Event Calendar 2.0//EN
METHOD:PUBLISH
X-PUBLISHED-TTL:P3D
REFRESH-INTERVAL:P3D
CALSCALE:GREGORIAN
BEGIN:VEVENT
DTSTART:20170517T153000Z
DTEND:20170517T170000Z
X-MICROSOFT-CDO-ALLDAYEVENT:FALSE
SUMMARY:Piedmont Chapter CEC - May 17\, 2017
DESCRIPTION:Our May CEC Meeting is coming up next week - make plans to join us for lunch\, networking and a brief program on Build with Strength and the Concrete Design Center.  We have updated our meeting format and hope to see you next week!\n\n\n\nPiedmont CEC Agenda
X-ALT-DESC;FMTTYPE=text/html:<p><span style="font-size:12px\;"><span style="color: rgb(32\, 32\, 32)\;">Our May CEC Meeting is coming up next week - make plans to join us for lunch\, networking and a brief program on&nbsp\;</span><span style="color: rgb(32\, 32\, 32)\;">Build with Strength and the&nbsp\;</span><span style="color: rgb(32\, 32\, 32)\;">Concrete Design Center. &nbsp\;We have updated our meeting format and hope to see you next week!</span><br />\n<br />\n<a href="https://chambermaster.blob.core.windows.net/userfiles/UserFiles/chambers/9366/File/CEC/CRMCACECMeetingAgendaPiedmont.pdf">Piedmont CEC Agenda</a> </span></p>\n
LOCATION:Logan's Roadhouse 53 Beacon Drive Greenville\, SC
UID:e.9366.56
SEQUENCE:3
DTSTAMP:20260420T213738Z
URL:https://business.crmca.com/events/details/piedmont-chapter-cec-may-17-2017-56
END:VEVENT

END:VCALENDAR
