BEGIN:VCALENDAR
VERSION:2.0
PRODID:-//ChamberMaster//Event Calendar 2.0//EN
METHOD:PUBLISH
X-PUBLISHED-TTL:P3D
REFRESH-INTERVAL:P3D
CALSCALE:GREGORIAN
BEGIN:VEVENT
DTSTART:20170824T153000Z
DTEND:20170824T170000Z
X-MICROSOFT-CDO-ALLDAYEVENT:FALSE
SUMMARY:Sand Hills Chapter CEC - August 2017
DESCRIPTION:Join us for lunch\, networking and a brief program presented by Anne Mayo Evans of Mccoy Wiggins Cleveland & Mclean PLLC on Collections and How to Get Paid
X-ALT-DESC;FMTTYPE=text/html:Join us for lunch\, networking and a brief program presented by Anne Mayo Evans of Mccoy Wiggins Cleveland &amp\; Mclean PLLC on Collections and How to Get Paid
LOCATION:Sammios Italian Restaurant 2623 Raeford Road Fayetteville\, NC
UID:e.9366.61
SEQUENCE:3
DTSTAMP:20260420T135256Z
URL:https://business.crmca.com/events/details/sand-hills-chapter-cec-august-2017-61
END:VEVENT

END:VCALENDAR
