BEGIN:VCALENDAR
VERSION:2.0
PRODID:-//ChamberMaster//Event Calendar 2.0//EN
METHOD:PUBLISH
X-PUBLISHED-TTL:P3D
REFRESH-INTERVAL:P3D
CALSCALE:GREGORIAN
BEGIN:VEVENT
DTSTART:20170209T163000Z
DTEND:20170209T180000Z
X-MICROSOFT-CDO-ALLDAYEVENT:FALSE
SUMMARY:Sand Hills Chapter CEC - February 2017
DESCRIPTION:Join us for lunch\, networking and a brief program.  The Program will be:\nECONOMIC UPDATE\n\nJuawana Colbert\n\nDirector\, Economic Development\n\nFayetteville Cumberland County\n\nEconomic Development Corporation
X-ALT-DESC;FMTTYPE=text/html:Join us for lunch\, networking and a brief program. &nbsp\;The Program will be:\n<div style="text-align: center\;"><strong><span style="color:red\;"><span style="font-size:16.0pt\;">ECONOMIC UPDATE</span></span></strong><br />\n<strong><span style="font-size:16.0pt\;">Juawana Colbert</span></strong><br />\n<strong><span style="font-size:16.0pt\;">Director\, Economic Development<br />\nFayetteville Cumberland County<br />\nEconomic Development Corporation</span></strong></div>\n<br />\n&nbsp\;<br />\n&nbsp\;
LOCATION:Sammios Italian Restaurant 2623 Raeford Road Fayetteville\, NC
UID:e.9366.40
SEQUENCE:3
DTSTAMP:20260421T002445Z
URL:https://business.crmca.com/events/details/sand-hills-chapter-cec-february-2017-40
END:VEVENT

END:VCALENDAR
