BEGIN:VCALENDAR
VERSION:2.0
PRODID:-//ChamberMaster//Event Calendar 2.0//EN
METHOD:PUBLISH
X-PUBLISHED-TTL:P3D
REFRESH-INTERVAL:P3D
CALSCALE:GREGORIAN
BEGIN:VEVENT
DTSTART:20170216T163000Z
DTEND:20170216T180000Z
X-MICROSOFT-CDO-ALLDAYEVENT:FALSE
SUMMARY:Triad Chapter CEC - February 2017
DESCRIPTION:Join us for lunch\, networking and a brief program.
X-ALT-DESC;FMTTYPE=text/html:Join us for lunch\, networking and a brief program.
LOCATION:Logan's Roadhouse 1300 Bridford Parkway Greensboro\, NC
UID:e.9366.43
SEQUENCE:3
DTSTAMP:20260421T002316Z
URL:https://business.crmca.com/events/details/triad-chapter-cec-february-2017-43
END:VEVENT

END:VCALENDAR
