BEGIN:VCALENDAR
VERSION:2.0
PRODID:-//ChamberMaster//Event Calendar 2.0//EN
METHOD:PUBLISH
X-PUBLISHED-TTL:P3D
REFRESH-INTERVAL:P3D
CALSCALE:GREGORIAN
BEGIN:VEVENT
DTSTART:20161109T163000Z
DTEND:20161109T180000Z
X-MICROSOFT-CDO-ALLDAYEVENT:FALSE
SUMMARY:Triangle Chapter CEC - November 2016
DESCRIPTION:Join us for lunch\, networking and a brief program.\n\nINFORMAL PROGRAM:  The new NCDOT Streets and Local Roads Specification\, presented by Eric Johnson.
X-ALT-DESC;FMTTYPE=text/html:Join us for lunch\, networking and a brief program.<br />\n<b style="color: rgb(34\, 34\, 34)\; font-family: arial\, sans-serif\; font-size: 12.8px\; line-height: normal\;"><span style="font-size: 9.5pt\;">INFORMAL PROGRAM: &nbsp\;</span></b><span style="font-family: cambria\, serif\; font-size: 11pt\; line-height: normal\; color: rgb(34\, 34\, 34)\;"><b>The new NCDOT Streets and Local Roads Specification\, presented by Eric Johnson.</b></span><br />\n&nbsp\;
LOCATION:Wild Wing Cafe 7900 Brier Creek Parkway Raleigh\, NC
UID:e.9366.31
SEQUENCE:3
DTSTAMP:20260421T054802Z
URL:https://business.crmca.com/events/details/triangle-chapter-cec-november-2016-31
END:VEVENT

END:VCALENDAR
