BEGIN:VCALENDAR
VERSION:2.0
PRODID:-//ChamberMaster//Event Calendar 2.0//EN
METHOD:PUBLISH
X-PUBLISHED-TTL:P3D
REFRESH-INTERVAL:P3D
CALSCALE:GREGORIAN
BEGIN:VEVENT
DTSTART:20170815T153000Z
DTEND:20170815T170000Z
X-MICROSOFT-CDO-ALLDAYEVENT:FALSE
SUMMARY:Western Carolina Chapter CEC - August 2017
DESCRIPTION:Join us for lunch\, networking and a brief program on Changes with Healthcare and What It Means presented by Ascension Insurance.
X-ALT-DESC;FMTTYPE=text/html:Join us for lunch\, networking and a brief program on Changes with Healthcare and What It Means presented by Ascension Insurance.
LOCATION:Native Kitchen & Social Pub 204 Whitson Ave. Swannanoa\, NC
UID:e.9366.65
SEQUENCE:3
DTSTAMP:20260420T174230Z
URL:https://business.crmca.com/events/details/western-carolina-chapter-cec-august-2017-65
END:VEVENT

END:VCALENDAR
