BEGIN:VCALENDAR
VERSION:2.0
PRODID:-//ChamberMaster//Event Calendar 2.0//EN
METHOD:PUBLISH
X-PUBLISHED-TTL:P3D
REFRESH-INTERVAL:P3D
CALSCALE:GREGORIAN
BEGIN:VEVENT
DTSTART:20170516T153000Z
DTEND:20170516T170000Z
X-MICROSOFT-CDO-ALLDAYEVENT:FALSE
SUMMARY:Western Carolina Chapter CEC - May 2017
DESCRIPTION:Join us for lunch\, networking and a brief program on Build with Strength and the Concrete Design Center presented by Caroline Sutton\, CRMCA Executive Vice President.\n\n\n\nWestern CEC Agenda
X-ALT-DESC;FMTTYPE=text/html:<p><span style="color: rgb(32\, 32\, 32)\; font-size: 16px\; font-family: tahoma\;">Join us for lunch\, networking and a brief program on </span><span style="color: rgb(32\, 32\, 32)\; font-size: 16px\; font-family: tahoma\;">Build with Strength and the </span><span style="color: rgb(32\, 32\, 32)\; font-size: 16px\; font-family: tahoma\;">Concrete Design Center presented by Caroline Sutton\, CRMCA Executive Vice President.<br />\n<br />\n<a href="https://chambermaster.blob.core.windows.net/userfiles/UserFiles/chambers/9366/File/CEC/CRMCACECMeetingAgendaWestern.pdf">Western CEC Agenda&nbsp\;</a> </span></p>\n
LOCATION:Countryside BBQ 2070 Rutherford Road Marion\, NC
UID:e.9366.55
SEQUENCE:3
DTSTAMP:20260420T213522Z
URL:https://business.crmca.com/events/details/western-carolina-chapter-cec-may-2017-55
END:VEVENT

END:VCALENDAR
